BEGIN:VCALENDAR
VERSION:2.0
PRODID:-//NHRF - ECPv6.15.20//NONSGML v1.0//EN
CALSCALE:GREGORIAN
METHOD:PUBLISH
X-WR-CALNAME:NHRF
X-ORIGINAL-URL:https://www.nhrf.nl
X-WR-CALDESC:Evenementen voor NHRF
REFRESH-INTERVAL;VALUE=DURATION:PT1H
X-Robots-Tag:noindex
X-PUBLISHED-TTL:PT1H
BEGIN:VTIMEZONE
TZID:UTC
BEGIN:STANDARD
TZOFFSETFROM:+0000
TZOFFSETTO:+0000
TZNAME:UTC
DTSTART:20220101T000000
END:STANDARD
END:VTIMEZONE
BEGIN:VEVENT
DTSTART;VALUE=DATE:20240217
DTEND;VALUE=DATE:20240218
DTSTAMP:20260421T153319
CREATED:20231101T120610Z
LAST-MODIFIED:20231101T122749Z
UID:4533-1708128000-1708214399@www.nhrf.nl
SUMMARY:Saab winterrally
DESCRIPTION:  \nSaab Winter Rally 2024 \nhttps://www.saabwinterrally.nl/inschrijven \nOp zaterdag 17 februari 2024 wordt de 3e Saab Winter Rally georganiseerd. De Saab Winter Rally is een kaartleesrally voor alle typen Saab: jong en oud\, met en zonder dak. Start en finish zijn\, net als de vorige twee edities\, bij Van der Valk Hotel in Deventer. Jaap Jongman van RallyControl heeft een mooie rit uitgezet over heuvels\, door dalen en langs kastelen in de Achterhoek. Onderweg is er een leuke behendigheidsproef op een particulier terrein\, ergens in het verstilde landschap. Je kunt rijden in twee klassen: in de competitieve Sportklasse of in de recreatieve Toerklasse (ook geschikt voor onervaren rallyrijders). Onderweg wordt de inwendige mens niet vergeten. Er is een winterse lunch op een mooie locatie in de Achterhoek. Na afloop kun je napraten\, borrelen en genieten van een zeer compleet winters buffet. Zowel in de Toer- als de Sportklasse zijn er voor de nummers 1\, 2 en 3 mooie bekers te winnen. De deelnameprijs per equipe is € 245. Hier zit alles in\, behalve de drankjes na afloop bij het buffet. Saab Club Nederland-leden ontvangen bovendien € 25 korting op de deelnameprijs. Doe je ook mee? Inschrijven kan op https://www.saabwinterrally.nl/inschrijven \nDe Saab Winter Rally is aangesloten bij de NHRF. Dat betekent dat voor dit evenement alle benodigde vergunningen worden aangevraagd en een aanvullende WAM verzekering voor de deelnemers wordt afgesloten. Wel zo prettig. De organisatie meldt de Saab Winter Rally 2024 ook aan bij de Belastingdienst voor de Evenementenregeling\, zodat ook geschorste Saab’s mee kunnen rijden. \nDatum:                               17 februari 2024\nTijd:                                      van 08:30 tot ca. 19:00 uur\nStart en finish:               Van der Valk Hotel Deventer\, Birnieweg 4\, 7418 HH Deventer\nOrganisator:                   Saab Winter Rally\, E: erno@saabwinterrally.nl\, M: 06-53877167\nWebsite:                            https://www.saabwinterrally.nl
URL:https://www.nhrf.nl/event/saab-winterrally/
LOCATION:Van der Valk Deventer\, Birnieweg 4\, 7418 HH\, 7418HH\, Nederland
ATTACH;FMTTYPE=image/png:https://www.nhrf.nl/wp-content/uploads/2023/11/Rallyschild-Winter-2024-1.png
END:VEVENT
BEGIN:VEVENT
DTSTART;TZID=UTC:20231214T190000
DTEND;TZID=UTC:20231214T220000
DTSTAMP:20260421T153319
CREATED:20231106T184122Z
LAST-MODIFIED:20231106T184122Z
UID:4561-1702580400-1702591200@www.nhrf.nl
SUMMARY:Stavenrit
DESCRIPTION:Uitzetters: Theo van Erkel en Bas de Rijk\nLocatie: In ieder geval Goeree Overflakkee\, locatie volgt nog want de onderhandelingen met de geschikte horeca onderneming lopen nog.\nStart 1e equipe: 19.00\nMaaltijdkeuze: Volgt dus ook nog \nHet heet niet voor niets de Stavenrit want iedere deelnemer krijgt natuurlijk zoals dat bij tradities hoort een boterstaaf mee! En de winnaars mogen zich verheugen op een fles wit en een fles rood! Inschrijven dus! \nBent u vergeten hoe dat moet: inloggen door op de website rechtsboven op het slotje te klikken en inloggen met jullie eigen email adres als inlognaam en jullie wachtwoord. Wachtwoord vergeten? Even email naar info@rohac.nl en we resetten dat voor je!
URL:https://www.nhrf.nl/event/stavenrit/
ATTACH;FMTTYPE=image/jpeg:https://www.nhrf.nl/wp-content/uploads/2023/06/logo-ROHAC-1.jpg
END:VEVENT
BEGIN:VEVENT
DTSTART;TZID=UTC:20231209T080000
DTEND;TZID=UTC:20231210T170000
DTSTAMP:20260421T153319
CREATED:20231024T103001Z
LAST-MODIFIED:20231026T101332Z
UID:4492-1702108800-1702227600@www.nhrf.nl
SUMMARY:Rallyhappening
DESCRIPTION:website : https://www.dhrc.nl/kalender/?event=667 \, Nederlands kampioenschap: JA
URL:https://www.nhrf.nl/event/rallyhappening/
ATTACH;FMTTYPE=image/png:https://www.nhrf.nl/wp-content/uploads/2023/10/dhrc.png
END:VEVENT
BEGIN:VEVENT
DTSTART;TZID=UTC:20231125T080000
DTEND;TZID=UTC:20231125T170000
DTSTAMP:20260421T153319
CREATED:20231024T083206Z
LAST-MODIFIED:20231106T184446Z
UID:4447-1700899200-1700931600@www.nhrf.nl
SUMMARY:Tour de Gazet
DESCRIPTION:website : https://www.rallymeester.nl/tour-de-gazet-2023 \nOp 25 november 2023 is het tijd voor de 9e editie van de Tour de Gazet. Al jaren is de Tour de Gazet één van de meest geliefde rally’s op de kalender en hierom wordt ook dit jaar weer een prachtig deelnemersveld verwacht. De rally wordt gereden in de inmiddels vertrouwde provincie Noord-Brabant\, maar het gebied verplaatst zich westelijk. Start en Finish zijn dit keer bij Restaurant Bargo\, een goed bereikbare locatie bij vliegveld Breda. De route komt ook dit jaar van Fred Hak met assistentie van Jürgen Donders\, aan kwaliteit en balans dus geen gebrek! Evenals vorig jaar wordt de rally verreden met de Rallycheck-app\, maar de tijdcontroles zullen gezellig en vertrouwd bemand worden door de marshalls. Het inschrijfgeld per equipe bedraagt voor deze editie € 250\, -. Voor dit bedrag ontvangt de equipe uiteraard de rallyspullen als rallyschilden\, routeboeken en een duidelijke uitleg na afloop. Daarnaast zitten ook een volledig verzorgde lunch\, borrelhapjes en buffet bij dit bedrag inbegrepen. Drankjes komen voor eigen rekening.    
URL:https://www.nhrf.nl/event/tour-de-gazet/
ATTACH;FMTTYPE=image/webp:https://www.nhrf.nl/wp-content/uploads/2023/10/tdg9-3.webp
END:VEVENT
BEGIN:VEVENT
DTSTART;TZID=UTC:20231117T180000
DTEND;TZID=UTC:20231118T180000
DTSTAMP:20260421T153319
CREATED:20231106T182725Z
LAST-MODIFIED:20231106T182725Z
UID:4559-1700244000-1700330400@www.nhrf.nl
SUMMARY:Horneland Rally
DESCRIPTION:Horneland Rally – Een regelmatigheidsrally voor klassieke auto’s. \nWedstrijdsecretariaat\nwedstrijdsecretariaat@hornelandrally.nl \n25e HORNELAND RALLY 17 & 18 NOVEMBER\n25 jaar geleden had het Horneland team\, onder leiding van Robert Wolter\, nooit durven dromen dat er 25 edities georganiseerd zouden worden. Maar op 17 & 18 november wordt dan toch echt de 25e Horneland Rally gereden. Deze jubileumeditie wordt net als afgelopen succesvolle evenementen wederom door Peter Rovers uitgezet en hij heeft beloofd dat het een sportief en uitdagende route zal worden\, traditiegetrouw voorzien van veel tijdcontroles. \nNieuwe start – rust – finishlocatie\nOm deze jubileumeditie nog meer elan te geven is besloten om de start te verplaatsten naar Verviers (B). We ontvangen onze deelnemers hier met koffie en thee en na een uitstekende lunch en de briefing begint de Horneland Rally. Aangezien we ons door deze verplaatsing meteen in de Ardennen bevinden\, kunnen wij direct met de eerste rallysectie beginnen: Opletten geblazen! Het ophalen van de punten zal geen “appeltje-eitje” zijn. Uiteraard zorgen we voor een passende moeilijkheidsgraad door middel van de gemiddelde snelheid en route voor de 3 verschillende klassen: Expert – Sport – Tour. Uitgangspunt blijft wel dat er weinig tijd is om te zoeken. Het beroemde systeem “punt tot punt vrije route” op de oudere Michelin kaarten zorgt er immers al voor dat je geen tijd nodig hebt om te puzzelen om de juiste route te vinden zoals bij andere rally’s. \nIn de avond zal de inwendige mens versterkt worden tijdens een stop onderweg. Nadat er een uitdagend avond traject gereden is\, staat de overnachting is gepland aan de oever van de Ourthe. Deze locatie zal voor sommige deelnemers herinneringen oproepen\, aangezien wij hier verschillende malen eerder gepasseerd zijn in de eerdere jaren met voor het laatst de 17e editie. De deelnemers kunnen hier genieten van een natje en een droogje\, de avonturen van de dag kunnen dan in een ontspannen sfeer met elkaar gedeeld worden. \nDe 2e dag wordt absoluut geen terug-rij-dag. De route zal sportief en uitdagend zijn tot aan de laatste tijdcontrole. De finish is traditiegetrouw in Weert waar ons evenement haar oorsprong kent. De organisatie heeft voor haar 5e lustrum groen licht gekregen om de finish midden in het centrum van Weert te laten plaatsvinden. Onder de mooie\, monumentale Sint-Martinuskerk zullen de deelnemers moe maar voldaan over het finishpodium rijden en hun rally bolide parkeren in dit mooie monumentale stukje Weert\, het wordt een passend plaatje! Uiteraard is er tijdens de prijsuitreiking een goed en uitgebreid diner. \n  \n 
URL:https://www.nhrf.nl/event/horneland-rally/
ATTACH;FMTTYPE=image/png:https://www.nhrf.nl/wp-content/uploads/2023/06/hornelandlogo1.png
END:VEVENT
END:VCALENDAR